BEGIN:VCALENDAR
VERSION:2.0
PRODID:icalendar-ruby
CALSCALE:GREGORIAN
METHOD:PUBLISH
BEGIN:VEVENT
DTSTAMP:20260421T194544Z
UID:38-525635@richlandcenternaz.com
DTSTART:20260927T230000Z
DTEND:20260928T003000Z
CLASS:PUBLIC
CREATED:20260421T143002
DESCRIPTION:
LAST-MODIFIED:20260421T143002
LOCATION:Youth Room - Parsonage Basement
SUMMARY:Teen Bible Study & Fellowship
URL;VALUE=URI:https://richlandcenternaz.com/events/teen-bible-study-fellows
 hip/2026-09-27
ATTACH;FILENAME=Teens.jpeg;FMTTYPE=image/jpeg:https://dq5pwpg1q8ru0.cloudfr
 ont.net/2025/07/15/13/07/41/f1c7b153-2445-4ba0-8c30-1db51f176196/Teens.jpe
 g
END:VEVENT
END:VCALENDAR
